BEGIN:VCALENDAR
VERSION:2.0
PRODID:-//Tukios.com/
BEGIN:VEVENT
UID:e556e131-3a87-43c2-8511-963a8a3a2d96@www.danielssadlerfunerals.com
DTSTAMP:20260421T210147Z
DTSTART:20260424T213000Z
DTEND:20260424T230000Z
SUMMARY:Visitation
DESCRIPTION:
URL:https://www.danielssadlerfunerals.com/obituaries/birdie-potter
LOCATION: 52 Bryant St.  Alliance NC 28509
GEO:35.1431529;-76.8190774
END:VEVENT
END:VCALENDAR