BEGIN:VCALENDAR
VERSION:2.0
PRODID:-//Tukios.com/
BEGIN:VEVENT
UID:c26dad38-fc85-4bfa-821f-20d7a20e98eb@www.danielssadlerfunerals.com
DTSTAMP:20260421T210603Z
DTSTART:20260425T163000Z
DTEND:20260425T173000Z
SUMMARY:Interment
DESCRIPTION:
URL:https://www.danielssadlerfunerals.com/obituaries/birdie-potter
LOCATION: 3597 Lowland Road  Hobucken NC 28537
GEO:35.2908173;-76.5593443
END:VEVENT
END:VCALENDAR