BEGIN:VCALENDAR
VERSION:2.0
PRODID:-//Tukios.com/
BEGIN:VEVENT
UID:59713483-6c93-4277-bd0e-d45379d18d5f@www.danielssadlerfunerals.com
DTSTAMP:20260421T210923Z
DTSTART:20260424T230000Z
DTEND:20260425T000000Z
SUMMARY:Funeral Service
DESCRIPTION:
URL:https://www.danielssadlerfunerals.com/obituaries/birdie-potter
LOCATION: 52 Bryant St.  Alliance NC 28509
GEO:35.1431529;-76.8190774
END:VEVENT
END:VCALENDAR