BEGIN:VCALENDAR
VERSION:2.0
PRODID:-//Tukios.com/
BEGIN:VEVENT
UID:20f8b86c-5a3a-4589-ba32-d2e6dea1ab6c@www.danielssadlerfunerals.com
DTSTAMP:20260426T022248Z
DTSTART:20260427T223000Z
DTEND:20260427T233000Z
SUMMARY:Visitation
DESCRIPTION:
URL:https://www.danielssadlerfunerals.com/obituaries/iris-dixon
LOCATION: 52 Bryant Street  Grantsboro NC 28529
GEO:35.143169;-76.819063
END:VEVENT
END:VCALENDAR