BEGIN:VCALENDAR
VERSION:2.0
PRODID:-//Tukios.com/
BEGIN:VEVENT
UID:443aea14-437c-4185-8e4b-c06c943a37a0@www.danielssadlerfunerals.com
DTSTAMP:20260426T022757Z
DTSTART:20260428T150000Z
DTEND:20260428T160000Z
SUMMARY:Funeral Service
DESCRIPTION:
URL:https://www.danielssadlerfunerals.com/obituaries/iris-dixon
LOCATION: 52 Bryant Street  Grantsboro NC 28529
GEO:35.143169;-76.819063
END:VEVENT
END:VCALENDAR