BEGIN:VCALENDAR
VERSION:2.0
PRODID:-//Tukios.com/
BEGIN:VEVENT
UID:d2e2312a-da81-4c87-b1e7-a8303b97c9a0@www.danielssadlerfunerals.com
DTSTAMP:20260420T225157Z
DTSTART:20260423T220000Z
DTEND:20260424T000000Z
SUMMARY:Visitation
DESCRIPTION:
URL:https://www.danielssadlerfunerals.com/obituaries/lee-willis-jr
LOCATION:Daniels Sadler Funeral Home 52 Bryant Street  Grantsboro NC 
	28529
GEO:35.1431529;-76.8190774
END:VEVENT
END:VCALENDAR