BEGIN:VCALENDAR
VERSION:2.0
PRODID:-//Tukios.com/
BEGIN:VEVENT
UID:cd6f0adf-c174-4204-9efe-d286c7d1cfd3@www.danielssadlerfunerals.com
DTSTAMP:20260420T225125Z
DTSTART:20260424T140000Z
DTEND:20260424T150000Z
SUMMARY:Memorial Service
DESCRIPTION:
URL:https://www.danielssadlerfunerals.com/obituaries/lee-willis-jr
LOCATION: 357 NC Highway 306 S  Grantsboro NC 28529
GEO:35.1353784;-76.840856
END:VEVENT
END:VCALENDAR