BEGIN:VCALENDAR
VERSION:2.0
PRODID:-//Tukios.com/
BEGIN:VEVENT
UID:ab47fc39-4d93-4daa-8e42-8b18caa8159c@www.danielssadlerfunerals.com
DTSTAMP:20260423T172359Z
DTSTART:20260425T150000Z
DTEND:20260425T160000Z
SUMMARY:Graveside Service
DESCRIPTION:
URL:https://www.danielssadlerfunerals.com/obituaries/linda-sanders
LOCATION:Concord Memorial Gardens 4580 Florence Rd  Merritt NC 28556
GEO:35.1390558;-76.6611018
END:VEVENT
END:VCALENDAR