BEGIN:VCALENDAR
VERSION:2.0
PRODID:-//Tukios.com/
BEGIN:VEVENT
UID:9296310d-8eb8-4fe4-a070-fdae024934ca@www.danielssadlerfunerals.com
DTSTAMP:20260425T183818Z
DTSTART:20260427T180000Z
DTEND:20260427T190000Z
SUMMARY:Celebration of Life
DESCRIPTION:
URL:https://www.danielssadlerfunerals.com/obituaries/richard-stephenson
LOCATION: 52 Bryant Street  Grantsboro NC 28529
GEO:35.143169;-76.819063
END:VEVENT
END:VCALENDAR