BEGIN:VCALENDAR
VERSION:2.0
PRODID:-//Tukios.com/
BEGIN:VEVENT
UID:f4a9eb3b-aa65-4d72-a7a9-5ebed029c2cd@www.danielssadlerfunerals.com
DTSTAMP:20260425T183605Z
DTSTART:20260427T170000Z
DTEND:20260427T180000Z
SUMMARY:Visitation
DESCRIPTION:
URL:https://www.danielssadlerfunerals.com/obituaries/richard-stephenson
LOCATION: 52 Bryant Street  Grantsboro NC 28529
GEO:35.143169;-76.819063
END:VEVENT
END:VCALENDAR